
BEGIN:VCALENDAR
VERSION:2.0
PRODID:-//Sangrok World Taekwondo Academy - Australia - ECPv4.6.11.1//NONSGML v1.0//EN
CALSCALE:GREGORIAN
METHOD:PUBLISH
X-WR-CALNAME:Sangrok World Taekwondo Academy - Australia
X-ORIGINAL-URL:http://www.sangrok.net.au
X-WR-CALDESC:Events for Sangrok World Taekwondo Academy - Australia
BEGIN:VEVENT
DTSTART;TZID=UTC+10:20180301T080000
DTEND;TZID=UTC+10:20180331T170000
DTSTAMP:20180226T152133
CREATED:20180225T052036Z
LAST-MODIFIED:20180225T052036Z
UID:288-1519891200-1522515600@www.sangrok.net.au
SUMMARY:Parents Train for free in March
DESCRIPTION:Hi all\, \nAll parents will train for free in March! Chat to any of the instructors\, send us an email\, or comment below for more information. Remember\, we are a family club\, so the more the merrier! \nSee you there. \n
URL:http://www.sangrok.net.au/event/parents-train-for-free-in-march/
END:VEVENT
END:VCALENDAR